BEGIN:VCALENDAR
VERSION:2.0
PRODID:-//wp-events-plugin.com//7.0.4//EN
BEGIN:VEVENT
UID:837@anchorgardens.org
DTSTART;TZID=America/Anchorage:20230708T100000
DTEND;TZID=America/Anchorage:20230708T120000
DTSTAMP:20230705T223115Z
URL:https://anchorgardens.org/events/certified-backyard-composter-class-2/
SUMMARY:Certified Backyard Composter Class
DESCRIPTION:\n 	Successfully compost yard wastes\, manures\, and food waste
 s\n 	Remedy a pile that's too hot\, too slow\, or too stinky\n 	Produce a 
 mature\, high-quality product for gardens and landscapes\n 	Receive a cert
 ificate upon completion\n\nSign up here:   https://forms.gle/HvTeghNjd75K
 GRE67\n\nInstructor: Deb Luper and Susan Operman\n\nPlace: Central Transfe
 r Station
CATEGORIES:Anchor Garden Events
END:VEVENT
BEGIN:VTIMEZONE
TZID:America/Anchorage
X-LIC-LOCATION:America/Anchorage
BEGIN:DAYLIGHT
DTSTART:20230312T030000
TZOFFSETFROM:-0900
TZOFFSETTO:-0800
TZNAME:AKDT
END:DAYLIGHT
END:VTIMEZONE
END:VCALENDAR