BEGIN:VCALENDAR
VERSION:2.0
PRODID:-//wp-events-plugin.com//7.0.4//EN
BEGIN:VEVENT
UID:835@anchorgardens.org
DTSTART;TZID=America/Anchorage:20230624T130000
DTEND;TZID=America/Anchorage:20230624T150000
DTSTAMP:20230613T013737Z
URL:https://anchorgardens.org/events/certified-backyard-composter-class/
SUMMARY:Certified Backyard Composter Class
DESCRIPTION:\n\n\nYou will learn how to...\n\n\n\n 	Successfully compost ya
 rd wastes\, manures\, and food wastes\n 	Remedy a pile that's too hot\, to
 o slow\, or too stinky\n 	Produce a mature\, high-quality product for gard
 ens and landscapes\n\nSign up here:   https://forms.gle/HvTeghNjd75KGRE67
 \n\nLocation: Mountain View Library's Teaching Garden\n\n
CATEGORIES:Anchor Garden Events
END:VEVENT
BEGIN:VTIMEZONE
TZID:America/Anchorage
X-LIC-LOCATION:America/Anchorage
BEGIN:DAYLIGHT
DTSTART:20230312T030000
TZOFFSETFROM:-0900
TZOFFSETTO:-0800
TZNAME:AKDT
END:DAYLIGHT
END:VTIMEZONE
END:VCALENDAR