BEGIN:VCALENDAR
VERSION:2.0
PRODID:-//wp-events-plugin.com//7.0.4//EN
BEGIN:VEVENT
UID:757@anchorgardens.org
DTSTART;TZID=America/Anchorage:20230524T160000
DTEND;TZID=America/Anchorage:20230524T180000
DTSTAMP:20230524T001933Z
URL:https://anchorgardens.org/events/fairview-lions-park-community-garden-
 party/
SUMMARY:Fairview Lions Park Community Garden Party
DESCRIPTION: It is officially gardening season\, and we are looking for vo
 lunteers to join us for a couple of hours of mulching\, weeding\, and tidy
 ing to help make our community garden at Fairview Lions Park SPARKLE! \n\
 nLocation: Fairview Lions Park\, 1201 E 8th Ave\, Anchorage\, AK 99501\n\n
 Join Anchorage Parks &amp\; Recreation and NeighborWorks Alaska at the gar
 den (7th Ave. and LaTouche St.) for an afternoon of hard work\, fun\, and 
 giving back to the community! We'll provide all the materials/tools and so
 me pizza to celebrate the dedication of our volunteers!\n\nLearn more and 
 let us knowing you are coming by signing up at: https://signup.com/go/wJX
 fYiH
CATEGORIES:Community events of interest
END:VEVENT
BEGIN:VTIMEZONE
TZID:America/Anchorage
X-LIC-LOCATION:America/Anchorage
BEGIN:DAYLIGHT
DTSTART:20230312T030000
TZOFFSETFROM:-0900
TZOFFSETTO:-0800
TZNAME:AKDT
END:DAYLIGHT
END:VTIMEZONE
END:VCALENDAR