BEGIN:VCALENDAR
VERSION:2.0
PRODID:-//wp-events-plugin.com//7.0.4//EN
BEGIN:VEVENT
UID:745@anchorgardens.org
DTSTART;TZID=America/Anchorage:20230507T130000
DTEND;TZID=America/Anchorage:20230507T170000
DTSTAMP:20230511T003256Z
URL:https://anchorgardens.org/events/lasagna-garden-workshop-and-work-part
 y/
SUMMARY:Lasagna garden workshop and work party
DESCRIPTION:Lasagna Garden Building Workshop: 1-3pm at I ST Community Garde
 n (14th and I ST next to City Market). Learn how how to design and build a
  nutrient dense\, water loving garden that composts in place!\n\n\nI ST Co
 mmunity Garden Work Party: 2-5pm. We will be getting I ST open\, building 
 seed libraries\, and hopefully a vertical strawberry garden. Dress for the
  weather\, bring gloves\, and/or battery operated tools. Anyone with carpe
 ntry skills is most welcome to come down and help.\n\n\nWish list for work
  party on May 7th\, I ST Garden:\n(please drop off inside the fence. Thank
 s you!)\n\n 	Scrap lumber\n 	Old plastic roofing material (like the clear 
 Greenhouse stuff)\n 	Old Rain gutters: cracked or holes makes it all the b
 etter!!\n 	Old plastic Trash bins\n 	Bagged Leaves (PESTICIDE HERBICIDE FR
 EE)\n\nFor volunteering\, attending the workshop\, work party\, or have qu
 estions please contact Theresa at 907-947-8217.\n\nThank you to all!!
CATEGORIES:Anchor Garden Events
END:VEVENT
BEGIN:VTIMEZONE
TZID:America/Anchorage
X-LIC-LOCATION:America/Anchorage
BEGIN:DAYLIGHT
DTSTART:20230312T030000
TZOFFSETFROM:-0900
TZOFFSETTO:-0800
TZNAME:AKDT
END:DAYLIGHT
END:VTIMEZONE
END:VCALENDAR