BEGIN:VCALENDAR
VERSION:2.0
PRODID:-//wp-events-plugin.com//7.0.4//EN
BEGIN:VEVENT
UID:882@anchorgardens.org
DTSTART;TZID=America/Anchorage:20230912T183000
DTEND;TZID=America/Anchorage:20230912T200000
DTSTAMP:20230908T215243Z
URL:https://anchorgardens.org/events/neighborhood-coaches-meeting-2023-09-
 12/
SUMMARY:Neighborhood Coaches Meeting
DESCRIPTION:Coaches for Anchor Gardens Neighborhoods come and connect with 
 each other and share good ideas\, get to know each other\, make connection
 s and LEARN together.  Every other Tuesday evening this summer until our 
 final party in September.\n\nJoin Zoom Meeting: https://us06web.zoom.us/j/
 83111301892?pwd=bko0M1RmMFB1azNkcE5rVVIvMWdzdz09\n\nMeeting ID: 831 1130 1
 892\nPasscode: 280994
CATEGORIES:Anchor Garden Events
END:VEVENT
BEGIN:VTIMEZONE
TZID:America/Anchorage
X-LIC-LOCATION:America/Anchorage
BEGIN:DAYLIGHT
DTSTART:20230312T030000
TZOFFSETFROM:-0900
TZOFFSETTO:-0800
TZNAME:AKDT
END:DAYLIGHT
END:VTIMEZONE
END:VCALENDAR