BEGIN:VCALENDAR
VERSION:2.0
PRODID:-//wp-events-plugin.com//7.0.4//EN
BEGIN:VEVENT
UID:816@anchorgardens.org
DTSTART;TZID=America/Anchorage:20230625T180000
DTEND;TZID=America/Anchorage:20230625T200000
DTSTAMP:20230602T022329Z
URL:https://anchorgardens.org/events/picnic-tour-for-june/
SUMMARY:Picnic Tour for June: Mary-Ellen's permaculture garden and Boyers O
 rchard & Greenhouse
DESCRIPTION:Let’s get together and celebrate the gifts of our gardens and
  efforts! This is our first Picnic Tour event for 2023. Build and expand y
 our own Alaskan fresh-from-the-garden recipe trove! This is a garden tour 
 sharing garden wisdom and a potluck sharing our garden dishes and the reci
 pe. Please bring a dish made from your garden (at least 2 garden ingredien
 ts) and the recipe on a 3x5. How many ways can we use our produce? Prepare
  to have your senses delighted! And have fun visiting!\n\n Thank you\, Mar
 y-Ellen Garner for sharing your productive permaculture garden and Boyers 
 Orchard &amp\; Greenhouse with us for the Picnic Tour. The address is 645 
 E 81st near Diamond and Old Seward. Mary-Ellen is a exemplary grower. If y
 ou have never been to Boyer’s it’s amazing cornucopia\, over 100 trees
 \, with a myriad of fruits: Apples\, Crabapples\, Pears\, Plums\, Cherries
 \, Quince\, more\, and fruiting bushes.\n\nIf you don't have time to prepa
 re a dish to share don't stay home\; please bring a freshly picked flower 
 bouquet\, wildflowers\, weeds\, vegetable leaves. have fun and let your cr
 eativity flow!\n\nAlso\, please bring your own plate\, cup\, utensils\, na
 pkin\, and chair or picnic blanket.\n\nContact: Elisabeth Holmgren\, 907-2
 74-4242\n\nMore info: https://alaskaorchard.org/our-fruits/
CATEGORIES:Anchor Garden Events
END:VEVENT
BEGIN:VTIMEZONE
TZID:America/Anchorage
X-LIC-LOCATION:America/Anchorage
BEGIN:DAYLIGHT
DTSTART:20230312T030000
TZOFFSETFROM:-0900
TZOFFSETTO:-0800
TZNAME:AKDT
END:DAYLIGHT
END:VTIMEZONE
END:VCALENDAR