BEGIN:VCALENDAR
VERSION:2.0
PRODID:-//wp-events-plugin.com//7.0.4//EN
BEGIN:VEVENT
UID:813@anchorgardens.org
DTSTART;TZID=America/Anchorage:20230603T130000
DTEND;TZID=America/Anchorage:20230603T150000
DTSTAMP:20230524T172703Z
URL:https://anchorgardens.org/events/planting-day-at-mt-view-library-teach
 ing-garden/
SUMMARY:Planting Day at Mt View Library Teaching Garden
DESCRIPTION:Join the library staff\, Mt View neighbors and Anchor garden vo
 lunteers to plant the teaching garden. Seedlings\, hand tools will be supp
 lied. Bring your garden gloves and a sense of humor. Any extra seedlings w
 ill be sent home with volunteers.\n\nThe event will be messy: bring garden
  gloves and a sense of humor.\n\nHosts: Mountain View Public Library &amp\
 ; Anchor Gardens\n\nContact: Rayette Sterling\, Mgr Mt View library 907-34
 3-2907/ Margaret Timmerman Anchor Gardens\,  timmermanmargaret851@gmail.c
 om
CATEGORIES:Anchor Garden Events
END:VEVENT
BEGIN:VTIMEZONE
TZID:America/Anchorage
X-LIC-LOCATION:America/Anchorage
BEGIN:DAYLIGHT
DTSTART:20230312T030000
TZOFFSETFROM:-0900
TZOFFSETTO:-0800
TZNAME:AKDT
END:DAYLIGHT
END:VTIMEZONE
END:VCALENDAR