BEGIN:VCALENDAR
VERSION:2.0
PRODID:-//wp-events-plugin.com//7.0.4//EN
BEGIN:VEVENT
UID:851@anchorgardens.org
DTSTART;TZID=America/Anchorage:20230625T120000
DTEND;TZID=America/Anchorage:20230625T150000
DTSTAMP:20230620T171234Z
URL:https://anchorgardens.org/events/sand-lake-neighborhood-tour/
SUMMARY:Sand Lake neighborhood tour
DESCRIPTION:Sand Lake tour!\n12-12:45 - Larissa - 7100 Linden Drive Meet in
  front yard\n\n1-1:45 - Stefanie and Troy - 2910 W. 84th Avenue. Access is
  through gate to the right of the garage\n\n2-2:45 - Dixie - 6655 holly la
 ne- Access through gate opposite driveway\n\nContact: Larissa\, 907-223-17
 19
CATEGORIES:Anchor Gardens - Neighborhood Event
END:VEVENT
BEGIN:VTIMEZONE
TZID:America/Anchorage
X-LIC-LOCATION:America/Anchorage
BEGIN:DAYLIGHT
DTSTART:20230312T030000
TZOFFSETFROM:-0900
TZOFFSETTO:-0800
TZNAME:AKDT
END:DAYLIGHT
END:VTIMEZONE
END:VCALENDAR