BEGIN:VCALENDAR
VERSION:2.0
PRODID:-//wp-events-plugin.com//7.0.4//EN
BEGIN:VEVENT
UID:797@anchorgardens.org
DTSTART;TZID=America/Anchorage:20230829T180000
DTEND;TZID=America/Anchorage:20230829T190000
DTSTAMP:20230524T003624Z
URL:https://anchorgardens.org/events/yarducopia-compost-workparty-at-midto
 wn-depot-2023-08-29/
SUMMARY:Yarducopia Compost Workparty at Midtown Depot
DESCRIPTION:Tuesday 6-7 pm: Compost workparty at Midtown Depot\n\nA hands-o
 n composting workshop at the Midtown Garden Depot from 6-7:30 pm every oth
 er Tuesday. Help make the compost that we offer to Anchorage gardeners!\n\
 nThis is also a great time to bring compostables to the depot so we can im
 mediately get it worked into the mix - things like kitchen scraps\, pestic
 ide-free grass\, and bedded manure.\n\nReach out to Nick to register - gar
 den@akaction.org  /  907-717-4392
CATEGORIES:Community events of interest
END:VEVENT
BEGIN:VTIMEZONE
TZID:America/Anchorage
X-LIC-LOCATION:America/Anchorage
BEGIN:DAYLIGHT
DTSTART:20230312T030000
TZOFFSETFROM:-0900
TZOFFSETTO:-0800
TZNAME:AKDT
END:DAYLIGHT
END:VTIMEZONE
END:VCALENDAR