BEGIN:VCALENDAR
VERSION:2.0
PRODID:-//wp-events-plugin.com//7.0.4//EN
BEGIN:VEVENT
UID:799@anchorgardens.org
DTSTART;TZID=America/Anchorage:20230531T180000
DTEND;TZID=America/Anchorage:20230531T190000
DTSTAMP:20230524T003907Z
URL:https://anchorgardens.org/events/yarducopia-midtown-garden-depot-offic
 e-hours-2023-05-31/
SUMMARY:Yarducopia Midtown Garden Depot "Office Hours"
DESCRIPTION:These mini tours of the Midtown Garden Depot are a chance to ge
 t familiar with the Depot what it offers\, what can be dropped off\, a bit
  of history. and to get a helping hand loading and unloading your car. Thi
 s is also a great time to sign up and get help with the Community Garden.\
 n\nThe goal of these evenings is to offer another opportunity (in addition
  to Sundays) to welcome new users to the Depot and onboard new community g
 ardeners. We can answer questions about the materials\, how the depot work
 s\, and help unload and load your vehicle. There are always small projects
  and tidying up to do\, so consider this a great time to help keep this sp
 ace looking good and running smoothly.\n\nReach out to garden@akaction.org
  with questions.
CATEGORIES:Community events of interest
END:VEVENT
BEGIN:VTIMEZONE
TZID:America/Anchorage
X-LIC-LOCATION:America/Anchorage
BEGIN:DAYLIGHT
DTSTART:20230312T030000
TZOFFSETFROM:-0900
TZOFFSETTO:-0800
TZNAME:AKDT
END:DAYLIGHT
END:VTIMEZONE
END:VCALENDAR