BEGIN:VCALENDAR
VERSION:2.0
PRODID:-//wp-events-plugin.com//7.0.4//EN
BEGIN:VEVENT
UID:768@anchorgardens.org
DTSTART;TZID=America/Anchorage:20230723T100000
DTEND;TZID=America/Anchorage:20230723T130000
DTSTAMP:20230524T003054Z
URL:https://anchorgardens.org/events/yarducopia-midtown-garden-workparty-2
 023-07-23/
SUMMARY:Yarducopia Midtown Garden Workparty
DESCRIPTION:Midtown Community Garden workparties are at Benson Blvd &amp\; 
 Cheechako.\n\nReach out to garden@akaction.org with questions.
CATEGORIES:Community events of interest
END:VEVENT
BEGIN:VTIMEZONE
TZID:America/Anchorage
X-LIC-LOCATION:America/Anchorage
BEGIN:DAYLIGHT
DTSTART:20230312T030000
TZOFFSETFROM:-0900
TZOFFSETTO:-0800
TZNAME:AKDT
END:DAYLIGHT
END:VTIMEZONE
END:VCALENDAR