BEGIN:VCALENDAR
VERSION:2.0
PRODID:-//wp-events-plugin.com//7.0.4//EN
BEGIN:VEVENT
UID:777@anchorgardens.org
DTSTART;TZID=America/Anchorage:20230611T140000
DTEND;TZID=America/Anchorage:20230611T170000
DTSTAMP:20230524T003256Z
URL:https://anchorgardens.org/events/yarducopia-spenard-garden-weekly-gath
 ering-2023-06-11/
SUMMARY:Yarducopia Spenard Garden Weekly Gathering
DESCRIPTION:The Spenard Garden has a weekly gathering on Sunday afternoons 
 to plant\, weed\, harvest\, etc.\n\nVisit\, enjoy\, and contribute to the 
 garden anytime you like. It is our space to share.\n\nThe garden has a fac
 ebook page with more up-to-date details - https://www.facebook.com/Spenard
 CG/
CATEGORIES:Community events of interest
END:VEVENT
BEGIN:VTIMEZONE
TZID:America/Anchorage
X-LIC-LOCATION:America/Anchorage
BEGIN:DAYLIGHT
DTSTART:20230312T030000
TZOFFSETFROM:-0900
TZOFFSETTO:-0800
TZNAME:AKDT
END:DAYLIGHT
END:VTIMEZONE
END:VCALENDAR